BEGIN:VCALENDAR
VERSION:2.0
PRODID:-//Alltagszen - ECPv6.15.20//NONSGML v1.0//EN
CALSCALE:GREGORIAN
METHOD:PUBLISH
X-ORIGINAL-URL:https://www.alltagszen.de
X-WR-CALDESC:Veranstaltungen für Alltagszen
REFRESH-INTERVAL;VALUE=DURATION:PT1H
X-Robots-Tag:noindex
X-PUBLISHED-TTL:PT1H
BEGIN:VTIMEZONE
TZID:Europe/Berlin
BEGIN:DAYLIGHT
TZOFFSETFROM:+0100
TZOFFSETTO:+0200
TZNAME:CEST
DTSTART:20210328T010000
END:DAYLIGHT
BEGIN:STANDARD
TZOFFSETFROM:+0200
TZOFFSETTO:+0100
TZNAME:CET
DTSTART:20211031T010000
END:STANDARD
BEGIN:DAYLIGHT
TZOFFSETFROM:+0100
TZOFFSETTO:+0200
TZNAME:CEST
DTSTART:20220327T010000
END:DAYLIGHT
BEGIN:STANDARD
TZOFFSETFROM:+0200
TZOFFSETTO:+0100
TZNAME:CET
DTSTART:20221030T010000
END:STANDARD
BEGIN:DAYLIGHT
TZOFFSETFROM:+0100
TZOFFSETTO:+0200
TZNAME:CEST
DTSTART:20230326T010000
END:DAYLIGHT
BEGIN:STANDARD
TZOFFSETFROM:+0200
TZOFFSETTO:+0100
TZNAME:CET
DTSTART:20231029T010000
END:STANDARD
END:VTIMEZONE
BEGIN:VEVENT
DTSTART;TZID=Europe/Berlin:20220106T180000
DTEND;TZID=Europe/Berlin:20220111T100000
DTSTAMP:20260423T214010
CREATED:20210916T174822Z
LAST-MODIFIED:20211227T100629Z
UID:1783-1641492000-1641895200@www.alltagszen.de
SUMMARY:Sesshin am Benediktushof
DESCRIPTION:Das Sesshin ist nur für Zen-Übende bestimmt\, die schon länger und regelmäßig den Zen-Weg gehen. Weiterhin benötigt man eine körperliche und psychische Gesundheit\, um sich vollständig auf die intensive Übung von Anfang bis zum Ende einlassen zu können.Sitzen in der Stille\, schnelles und langsames Kinhin\, Teishos und Dokusan sind  Teil der Sesshins. Die Teilnahme an diesem Sesshin ist auch online möglich.
URL:https://www.alltagszen.de/veranstaltung/sesshin-2022/
ATTACH;FMTTYPE=image/jpeg:https://www.alltagszen.de/wp-content/uploads/2021/02/IMG_0132-scaled.jpg
END:VEVENT
END:VCALENDAR